View In:
ArcGIS JavaScript
ArcGIS Online Map Viewer
ArcGIS Earth
Service Description: ImageServices/GIS_DBO_IT_JacksonTownship1866
Name: ImageServices/GIS_DBO_IT_JacksonTownship1866
Description:
Single Fused Map Cache: false
Extent:
XMin: 198784.83012844337
YMin: 1767703.2836779454
XMax: 236786.9758117216
YMax: 1810672.1757396995
Spatial Reference: 2244
(2965)
LatestVCSWkid(0)
Initial Extent:
XMin: 198784.83012844337
YMin: 1767703.2836779454
XMax: 236786.9758117216
YMax: 1810672.1757396995
Spatial Reference: 2244
(2965)
LatestVCSWkid(0)
Full Extent:
XMin: 198784.83012844337
YMin: 1767703.2836779454
XMax: 236786.9758117216
YMax: 1810672.1757396995
Spatial Reference: 2244
(2965)
LatestVCSWkid(0)
Pixel Size X: 12.071837891765643
Pixel Size Y: 11.840422171880444
Band Count: 3
Pixel Type: U8
RasterFunction Infos: {"rasterFunctionInfos": [{
"name": "None",
"description": "",
"help": ""
}]}
Mensuration Capabilities: Basic
Inspection Capabilities:
Has Histograms: true
Has Colormap: false
Has Multi Dimensions : false
Rendering Rule:
Min Scale: 0
Max Scale: 0
Copyright Text:
Service Data Type: esriImageServiceDataTypeRGB
Min Values: 24, 22, 0
Max Values: 215, 215, 215
Mean Values: 140.72131978332104, 130.145719346017, 113.7163126356445
Standard Deviation Values: 28.58325525625499, 27.89213986397983, 33.6323242958069
Object ID Field:
Fields:
None
Default Mosaic Method: Center
Allowed Mosaic Methods:
SortField:
SortValue: null
Mosaic Operator: First
Default Compression Quality: 75
Default Resampling Method: Bilinear
Max Record Count: null
Max Image Height: 4100
Max Image Width: 15000
Max Download Image Count: null
Max Mosaic Image Count: null
Allow Raster Function: true
Allow Copy: true
Allow Analysis: true
Allow Compute TiePoints: false
Supports Statistics: false
Supports Advanced Queries: false
Use StandardizedQueries: true
Raster Type Infos:
Name: Raster Dataset
Description: Supports all ArcGIS Raster Datasets
Help:
Has Raster Attribute Table: false
Edit Fields Info: null
Ownership Based AccessControl For Rasters: null
Child Resources:
Info
Histograms
Statistics
Key Properties
Legend
Raster Function Infos
Supported Operations:
Export Image
Identify
Measure
Compute Histograms
Compute Statistics Histograms
Get Samples
Compute Class Statistics
Query Boundary
Compute Pixel Location
Compute Angles
Validate
Project